BEGIN:VCALENDAR
VERSION:2.0
PRODID:-//Two Ravens Fencing School - ECPv6.15.20//NONSGML v1.0//EN
CALSCALE:GREGORIAN
METHOD:PUBLISH
X-WR-CALNAME:Two Ravens Fencing School
X-ORIGINAL-URL:https://www.tworavensallswords.com
X-WR-CALDESC:Events for Two Ravens Fencing School
REFRESH-INTERVAL;VALUE=DURATION:PT1H
X-Robots-Tag:noindex
X-PUBLISHED-TTL:PT1H
BEGIN:VTIMEZONE
TZID:America/New_York
BEGIN:DAYLIGHT
TZOFFSETFROM:-0500
TZOFFSETTO:-0400
TZNAME:EDT
DTSTART:20240310T070000
END:DAYLIGHT
BEGIN:STANDARD
TZOFFSETFROM:-0400
TZOFFSETTO:-0500
TZNAME:EST
DTSTART:20241103T060000
END:STANDARD
BEGIN:DAYLIGHT
TZOFFSETFROM:-0500
TZOFFSETTO:-0400
TZNAME:EDT
DTSTART:20250309T070000
END:DAYLIGHT
BEGIN:STANDARD
TZOFFSETFROM:-0400
TZOFFSETTO:-0500
TZNAME:EST
DTSTART:20251102T060000
END:STANDARD
BEGIN:DAYLIGHT
TZOFFSETFROM:-0500
TZOFFSETTO:-0400
TZNAME:EDT
DTSTART:20260308T070000
END:DAYLIGHT
BEGIN:STANDARD
TZOFFSETFROM:-0400
TZOFFSETTO:-0500
TZNAME:EST
DTSTART:20261101T060000
END:STANDARD
END:VTIMEZONE
BEGIN:VEVENT
DTSTART;TZID=America/New_York:20250926T000000
DTEND;TZID=America/New_York:20250928T235959
DTSTAMP:20260424T005940
CREATED:20250908T010607Z
LAST-MODIFIED:20250908T013910Z
UID:1584-1758844800-1759103999@www.tworavensallswords.com
SUMMARY:Premier Challenge ROC/RJCC/RYC
DESCRIPTION:https://www.askfred.net/tournaments/a26b6276-fcc6-42d9-8ff0-fdbfc57e6e92Welcome to the PREMIER CHALLENGE – ROC (DV1A\, DV2\, VET)\, RJCC & RYC \n\n\n\nEvent is Open to ALL Regions\, ALL EVENTS ARE CAPPED \n\n\n\nThe Venue \n\n\n\nROCKLAND COMMUNITY COLLEGE\, Eugene Levy Field House\, 145 College Rd\, Suffern\, NY 10901 \n\n\n\nVery close to all major highways and NYC transit \n\n\n\nOnly 44 miles away from Newark Liberty International Airport (EWR)\, 48 miles from JFK Airport and 39 miles from LaGuardia Airport (LGA) \n\n\n\n92\,000 Sq Ft dedicated to fencing space \n\n\n\n66 grounded strips \n\n\n\nVideo replay for all semi-finals and gold medal bouts \n\n\n\nWe promise \n\n\n\nStart all events on time within few minutes after close registration \n\n\n\nNo delay before and between rounds and no flighted events \n\n\n\nHighly skilled Bout Committee staff and highly ranked & licensed National and International referees \n\n\n\nEquipment Check \n\n\n\nEquipment Check will be opened Thursday September 25\, 2025 from 4:30 PM to 6:30 PM\, as well as all event days from 6:30 AM \n\n\n\nIt is highly recommended to come and check your equipment on Friday if your event is the first event on Saturday. Other fencers are also welcomed to check their equipment on Friday \n\n\n\nImportant – Read Carefully \n\n\n\nAll fencing strips will be surrounded by stanchions (Fencing Zones). Spectators to sit outside the stanchions all times. \n\n\n\nNo parents\, coaches\, or spectators are allowed inside the fencing zones. NO EXCEPTIONS. However\, only one coach is allowed to assist a fencer during DE bouts. Coach will stand in a clearly designated area and will be instructed not to step out of this area until the bout ends. Violators will be escorted out of the venue immediately. Fencers\, please relay this information to your coach \n\n\n\nFencers to stay behind the strips all the time\, except for the times they are fencing. \n\n\n\nFencers can check the results at www.fencingtimelive.com \n\n\n\nContact Information \n\n\n\nPlease send any question to info@premierfencingclub.com \n\n\n\nAge Eligibility \n\n\n\nY8 = 2017-2020 \n\n\n\nY10 = 2015-2018 \n\n\n\nY12 = 2013-2016 (or on Y10 NRPS) \n\n\n\nY14 = 2011-2014 (or on Y12 NRPS) \n\n\n\nCADET = 2009 -2012 (or on Y14 NRPS) \n\n\n\nJUNIOR = 2006 -2012 (or on CADET NRPS) \n\n\n\nROC = Born 2012 or earlier (or on Junior NRPS) \n\n\n\nhttps://member.usafencing.org/details/tournaments/10464
URL:https://www.tworavensallswords.com/event/premier-challenge-roc-rjcc-ryc/
LOCATION:Rockland Community College\, Eugene Levy Field House\, 145 College Road\, Suffern\, New York\, 10901\, United States
CATEGORIES:Fencing Tournaments
END:VEVENT
BEGIN:VEVENT
DTSTART;TZID=America/New_York:20250919T000000
DTEND;TZID=America/New_York:20250921T235959
DTSTAMP:20260424T005940
CREATED:20250831T000413Z
LAST-MODIFIED:20250831T001321Z
UID:1244-1758240000-1758499199@www.tworavensallswords.com
SUMMARY:AG Open
DESCRIPTION:The AG Open returns for 2025!!\nGet your Early Bird Tickets while you can!\n– Swag will be on sale closer to event date \nTournaments! Lectures! Showers! Classes! Free sparring! \n\nLongsword Relay (Teams)\nLongsword Open A/B/C\nLongsword URG A/B\nMesser Open A/B\nMesser URG\nLongsword Cutting A/B
URL:https://www.tworavensallswords.com/event/ag-open/
LOCATION:Plymouth Arts & Recreation Center – PARC\, 650 Church St\, Plymouth\, 48170\, United States
CATEGORIES:HEMA Tournaments
END:VEVENT
BEGIN:VEVENT
DTSTART;TZID=America/New_York:20250905T000000
DTEND;TZID=America/New_York:20250907T235959
DTSTAMP:20260424T005940
CREATED:20250830T141830Z
LAST-MODIFIED:20250904T012113Z
UID:1237-1757030400-1757289599@www.tworavensallswords.com
SUMMARY:Swordsquatch 2025
DESCRIPTION:Swordsquatch is three days of Historical Martial Arts workshops\, competition\, and camaraderie in the SoDo district of Seattle. Fight. Learn. Make friends\, then fight them!
URL:https://www.tworavensallswords.com/event/swordsquatch-2025/
LOCATION:Lonin\, 624 South Lander Street Units 41A / 40B\, Seattle\, WA\, United States
CATEGORIES:HEMA Tournaments
END:VEVENT
BEGIN:VEVENT
DTSTART;TZID=America/New_York:20250830T080000
DTEND;TZID=America/New_York:20250830T170000
DTSTAMP:20260424T005940
CREATED:20250831T020853Z
LAST-MODIFIED:20250908T014604Z
UID:1309-1756540800-1756573200@www.tworavensallswords.com
SUMMARY:Southeast ARC Fencing Open 2025
DESCRIPTION:Atlanta Historical Fencing Academy has a resource group called “Arc” and we’re hosting the Southeast ARC Fencing Open! \nArc supports the under-represented genders in our club and support their journey and growth into Historical Fencers. \nUnder-represented genders include: Cis women\, Trans women\, Non-Binary people\, and Trans men. \n“Arc” as a name refers to a shield; that the Arc of a shield helps deflect and defend attacks away from you. That’s what this group is — a Shield that can be used to protect and support those in it with regards to the greater HEMA community. \nThe Southeast Arc Fencing Open will be held on November 15 and 16\, 2025 in Atlanta\, Georgia at Clayton State University. This tournament is open to all Cis women\, Trans women\, Non-binary people\, and Trans men. \nOver the two day period\, we will have a Longsword Tier A and B\, Sword and Buckler\, Sabre\, Single Rapier\, and Rapier and Dagger tournaments! \nThe ruleset will be the same as the Southeast Renaissance Fencing Open (SERFO) that AHFA hosts in June.
URL:https://www.tworavensallswords.com/event/southeast-arc-fencing-open-2025/
LOCATION:OH
CATEGORIES:HEMA Tournaments
END:VEVENT
BEGIN:VEVENT
DTSTART;TZID=America/New_York:20250830T080000
DTEND;TZID=America/New_York:20250830T170000
DTSTAMP:20260424T005940
CREATED:20250831T003836Z
LAST-MODIFIED:20250831T003859Z
UID:1267-1756540800-1756573200@www.tworavensallswords.com
SUMMARY:Duel For The Jewel 2025
DESCRIPTION:GCDS’s Fourth Annual Tournament! \nSaturday – Saber 9AM\, Longsword 1 PM \nSunday – Messer 9AM \, URG Saber 1 PM\, Rapier 4 PM
URL:https://www.tworavensallswords.com/event/duel-for-the-jewel-2025/
LOCATION:Dual For the Jewel\, 2133 Ferry Rd\, Bellbrook\, OH\, 45305\, United States
CATEGORIES:HEMA Tournaments
END:VEVENT
BEGIN:VEVENT
DTSTART;TZID=America/New_York:20250123T080000
DTEND;TZID=America/New_York:20250125T170000
DTSTAMP:20260424T005940
CREATED:20251003T015451Z
LAST-MODIFIED:20251003T015649Z
UID:1673-1737619200-1737824400@www.tworavensallswords.com
SUMMARY:Helsinki Longsword Open 2026
DESCRIPTION:Event Website: https://www.ehms.fi/uutiset/helsinki-longsword-open-2026-registration-opens-september-23rd?fbclid=IwQ0xDSwM-dHxjbGNrAz50emV4dG4DYWVtAjExAAEe9q_0QFuNBfVrRvqo_u5OkwhP_peAOPF989j2i2uyX7BsLbl9DPwcspAb86I_aem_yBaY7Bpu-f6stbZ_U73VIQ \n\n\n\nThis year there will be 6 competitionsOpen Longsword (216 spots)Women’s+ Longsword (72 spots)Open Sabre (90 spots)Women’s+ Sabre (18 spots)Open Rapier & Dagger (60 spots)Longsword Cutting (40 spots) \n\n\n\nSunday is reserved for free megasparring\, as usual. \n\n\n\n \n\n\n\nMore information about the event\, as well as registration\, schedule\, rules\, etc. will become available here. We will try to keep that page as up to date as possible. \n\n\n\nFor more immediate communications / announcements\, feel free to follow our socials (Instagram\, Facebook)\, join the HLO26 event and our Discord server.
URL:https://www.tworavensallswords.com/event/helsinki-longsword-open-2026/
LOCATION:OH
END:VEVENT
END:VCALENDAR